BEGIN:VCALENDAR
VERSION:2.0
PRODID:-//Lale Gül - ECPv6.5.0//NONSGML v1.0//EN
CALSCALE:GREGORIAN
METHOD:PUBLISH
X-WR-CALNAME:Lale Gül
X-ORIGINAL-URL:https://lalegul.nl
X-WR-CALDESC:Evenementen voor Lale Gül
REFRESH-INTERVAL;VALUE=DURATION:PT1H
X-Robots-Tag:noindex
X-PUBLISHED-TTL:PT1H
BEGIN:VTIMEZONE
TZID:Europe/Amsterdam
BEGIN:DAYLIGHT
TZOFFSETFROM:+0100
TZOFFSETTO:+0200
TZNAME:CEST
DTSTART:20240331T010000
END:DAYLIGHT
BEGIN:STANDARD
TZOFFSETFROM:+0200
TZOFFSETTO:+0100
TZNAME:CET
DTSTART:20241027T010000
END:STANDARD
END:VTIMEZONE
BEGIN:VEVENT
DTSTART;TZID=Europe/Amsterdam:20241108T203000
DTEND;TZID=Europe/Amsterdam:20241108T203000
DTSTAMP:20260419T153010
CREATED:20240507T135241Z
LAST-MODIFIED:20240607T103817Z
UID:10000006-1731097800-1731097800@lalegul.nl
SUMMARY:DeLaMar Amsterdam
DESCRIPTION:
URL:https://lalegul.nl/events/delamar-amsterdam/
LOCATION:DeLaMar Amsterdam\, Marnixstraat 402\, Amsterdam\, 1017 PL
END:VEVENT
END:VCALENDAR